BEGIN:VCALENDAR
VERSION:2.0
PRODID:-//Saint-Leger-en-Yvelines//NONSGML kigkonsult.se iCalcreator 2.30.1
 0//
CALSCALE:GREGORIAN
METHOD:PUBLISH
UID:8c2a8880-625c-4ce2-aca8-04fa7d162b6a
X-WR-CALNAME:iCagenda
X-WR-CALDESC:Event Management Extension for Joomla!
X-WR-RELCALID:3E26604A-50F4-4449-8B3E-E4F4932D05B5
X-WR-TIMEZONE:Europe/Paris
BEGIN:VTIMEZONE
TZID:Europe/Paris
BEGIN:STANDARD
TZNAME:CET
DTSTART:20251026T030000
TZOFFSETFROM:+0200
TZOFFSETTO:+0100
RDATE:20261025T030000
RDATE:20271031T030000
END:STANDARD
BEGIN:DAYLIGHT
TZNAME:CEST
DTSTART:20260329T020000
TZOFFSETFROM:+0100
TZOFFSETTO:+0200
RDATE:20270328T020000
END:DAYLIGHT
END:VTIMEZONE
BEGIN:VEVENT
UID:43e4ae52-571f-4567-a186-8925ba9151f2
DTSTAMP:20260420T135311Z
CATEGORIES:Événements à Saint-Léger
CLASS:PUBLIC
DESCRIPTION;ALTREP="CID:<FFFF__=0ABBE548DFE235B58f9e8a93d@coffeebean.com>":
 Madame\, Monsieur\,\nL'Association Saint Léger Jumelage vous convie à sa 9
 ème Balade Gourmande le dimanche 14 juin 2026.\nVenez nombreux !\nLe Servi
 ce Communication\n
DTSTART:20260614T090000Z
DTEND:20260614T090000Z
GEO:+48.722603;+1.763703
LOCATION:
ORGANIZER:
SEQUENCE:1
SUMMARY:BALADE GOURMANDE - 14 JIUN 2026
TRANSP:OPAQUE
URL:https://saint-leger-en-yvelines.fr/agenda/balade-gourmande-14-jiun-2026
 /2026-06-14-11-00.html
END:VEVENT
END:VCALENDAR
